BEGIN:VCALENDAR
VERSION:2.0
PRODID:-//West Virginia Reading Association - ECPv6.1.3//NONSGML v1.0//EN
CALSCALE:GREGORIAN
METHOD:PUBLISH
X-WR-CALNAME:West Virginia Reading Association
X-ORIGINAL-URL:https://wvreading.com
X-WR-CALDESC:Events for West Virginia Reading Association
REFRESH-INTERVAL;VALUE=DURATION:PT1H
X-Robots-Tag:noindex
X-PUBLISHED-TTL:PT1H
BEGIN:VTIMEZONE
TZID:UTC
BEGIN:STANDARD
TZOFFSETFROM:+0000
TZOFFSETTO:+0000
TZNAME:UTC
DTSTART:20210101T000000
END:STANDARD
END:VTIMEZONE
BEGIN:VEVENT
DTSTART;TZID=UTC:20211106T090000
DTEND;TZID=UTC:20211106T140000
DTSTAMP:20260420T192113
CREATED:20211008T200056Z
LAST-MODIFIED:20211026T002415Z
UID:381-1636189200-1636207200@wvreading.com
SUMMARY:Regional Literature Fair
DESCRIPTION:Central WV students who LOVE READING (Grades K-12) will exhibit literature fair projects based on a book they have read. \nJudging will begin around 9 a.m. with results to be announced at 1 p.m. \nGrand Prize winners from this event will earn the opportunity to exhibit their project once again in a non-competitive event at the WVRA Annual Conference at the Greenbrier Resort in White Sulphur Springs on Friday\, November 19\, 2021 beginning at 9 a.m.
URL:https://wvreading.com/event/regional-literature-fair/
LOCATION:Glenville State College\, WACO Center 200 High Street\, Glenville\, WV\, 26351\, United States
CATEGORIES:Literature Fair
ATTACH;FMTTYPE=image/png:https://wvreading.com/wp-content/uploads/2021/10/books3.png
ORGANIZER;CN="Sarah%20Lee":MAILTO:sllee@k12.wv.us
END:VEVENT
BEGIN:VEVENT
DTSTART;VALUE=DATE:20211030
DTEND;VALUE=DATE:20211031
DTSTAMP:20260420T192113
CREATED:20211008T201603Z
LAST-MODIFIED:20211014T232730Z
UID:387-1635552000-1635638399@wvreading.com
SUMMARY:Nomination Packets Due to Citation and Awards Committee
DESCRIPTION:Please send your award nomination packets to the person listed in your nomination application and include a headshot photograph.
URL:https://wvreading.com/event/nomination-packets-due/
CATEGORIES:Deadline
ATTACH;FMTTYPE=image/png:https://wvreading.com/wp-content/uploads/2021/10/book.png
END:VEVENT
END:VCALENDAR