BEGIN:VCALENDAR
VERSION:2.0
PRODID:-//West Virginia Reading Association - ECPv6.1.3//NONSGML v1.0//EN
CALSCALE:GREGORIAN
METHOD:PUBLISH
X-ORIGINAL-URL:https://wvreading.com
X-WR-CALDESC:Events for West Virginia Reading Association
REFRESH-INTERVAL;VALUE=DURATION:PT1H
X-Robots-Tag:noindex
X-PUBLISHED-TTL:PT1H
BEGIN:VTIMEZONE
TZID:America/New_York
BEGIN:DAYLIGHT
TZOFFSETFROM:-0500
TZOFFSETTO:-0400
TZNAME:EDT
DTSTART:20240310T070000
END:DAYLIGHT
BEGIN:STANDARD
TZOFFSETFROM:-0400
TZOFFSETTO:-0500
TZNAME:EST
DTSTART:20241103T060000
END:STANDARD
TZID:UTC
BEGIN:STANDARD
TZOFFSETFROM:+0000
TZOFFSETTO:+0000
TZNAME:UTC
DTSTART:20250101T000000
END:STANDARD
END:VTIMEZONE
BEGIN:VEVENT
DTSTART;TZID=America/New_York:20241020T180000
DTEND;TZID=America/New_York:20241020T190000
DTSTAMP:20260420T215122
CREATED:20240903T173109Z
LAST-MODIFIED:20240903T173109Z
UID:1764-1729447200-1729450800@wvreading.com
SUMMARY:Second WVRA Book Club Meeting - Oct. 20
DESCRIPTION:
URL:https://wvreading.com/event/second-wvra-book-club-meeting-oct-20/
LOCATION:WV
ATTACH;FMTTYPE=image/png:https://wvreading.com/wp-content/uploads/2024/09/WVRA-Dislexia-Book-Club-Invitation.png
END:VEVENT
BEGIN:VEVENT
DTSTART;TZID=America/New_York:20241121T170000
DTEND;TZID=America/New_York:20241121T200000
DTSTAMP:20260420T215122
CREATED:20241023T165255Z
LAST-MODIFIED:20241118T143652Z
UID:1825-1732208400-1732219200@wvreading.com
SUMMARY:"Wine Down" With Us at the 68th Conference!
DESCRIPTION:
URL:https://wvreading.com/event/wine-down-with-us-at-the-68th-conference/
LOCATION:Oglebay Resort\, 465 Lodge Dr.\, Wheeling\, WV\, 26003\, United States
CATEGORIES:Conference
ATTACH;FMTTYPE=image/png:https://wvreading.com/wp-content/uploads/2024/10/Screenshot-2024-11-18-093326.png
END:VEVENT
BEGIN:VEVENT
DTSTART;VALUE=DATE:20241122
DTEND;VALUE=DATE:20241123
DTSTAMP:20260420T215122
CREATED:20240903T173409Z
LAST-MODIFIED:20240903T173421Z
UID:1768-1732233600-1732319999@wvreading.com
SUMMARY:Join US for our 3rd WVRA Book Club Meeting @ Oglebay
DESCRIPTION:
URL:https://wvreading.com/event/join-us-for-our-3rd-wvra-book-club-meeting-oglebay/
LOCATION:WV
ATTACH;FMTTYPE=image/png:https://wvreading.com/wp-content/uploads/2024/09/WVRA-Dislexia-Book-Club-Invitation.png
END:VEVENT
BEGIN:VEVENT
DTSTART;VALUE=DATE:20251120
DTEND;VALUE=DATE:20251122
DTSTAMP:20260420T215122
CREATED:20250901T201032Z
LAST-MODIFIED:20251024T163456Z
UID:1929-1763596800-1763769599@wvreading.com
SUMMARY:69th Annual Conference: Reading . . . a Magical Adventure
DESCRIPTION:Click Here for Conference Schedule! \nStep 1 – Registration\, Pricing\, & Payment\nFirst\, please fill out your conference information so we can get you registered in our system.  The form also contains information on how to pay. \nStudent Conference Fee (WVRA Membership Included)  – $125 \nConference Fee (WVRA Membership Included)  – $225 \nNon-Member Conference Fee – $315 \nRegister Now \n\nStep 2 – Book Your Room\nOglebay Resort Group Rate – $142.50 per night + taxes & fees \nCall 304-243-4000 with Group Rate Code: WVRA Reading Conference\, or book online at Oglebay Resort.\n\n\nFor Presenters – Deadline Extended to September 15\, 2025\nEver dreamed of presenting at the West Virginia Annual Reading Conference?  If so\, we would like to invite you to submit a proposal!  Download the form here! \n  \n\nMeet Our Keynote Speakers!\n \n  \n\nReceive 3-hours of Graduate Credit for Attending the Conference!
URL:https://wvreading.com/event/69th-annual-conference-reading-a-magical-adventure/
LOCATION:Oglebay Resort\, 465 Lodge Dr.\, Wheeling\, WV\, 26003\, United States
CATEGORIES:Conference
ATTACH;FMTTYPE=image/png:https://wvreading.com/wp-content/uploads/2025/09/Untitled-design-2.png
ORGANIZER;CN="Brian%20Bailey":MAILTO:bebailey@k12.wv.us
END:VEVENT
END:VCALENDAR